BEGIN:VCALENDAR
VERSION:2.0
PRODID:-//Indian Rocks Christian School - ECPv6.15.20//NONSGML v1.0//EN
CALSCALE:GREGORIAN
METHOD:PUBLISH
X-WR-CALNAME:Indian Rocks Christian School
X-ORIGINAL-URL:https://ircs.org
X-WR-CALDESC:Events for Indian Rocks Christian School
REFRESH-INTERVAL;VALUE=DURATION:PT1H
X-Robots-Tag:noindex
X-PUBLISHED-TTL:PT1H
BEGIN:VTIMEZONE
TZID:America/New_York
BEGIN:DAYLIGHT
TZOFFSETFROM:-0500
TZOFFSETTO:-0400
TZNAME:EDT
DTSTART:20250309T070000
END:DAYLIGHT
BEGIN:STANDARD
TZOFFSETFROM:-0400
TZOFFSETTO:-0500
TZNAME:EST
DTSTART:20251102T060000
END:STANDARD
BEGIN:DAYLIGHT
TZOFFSETFROM:-0500
TZOFFSETTO:-0400
TZNAME:EDT
DTSTART:20260308T070000
END:DAYLIGHT
BEGIN:STANDARD
TZOFFSETFROM:-0400
TZOFFSETTO:-0500
TZNAME:EST
DTSTART:20261101T060000
END:STANDARD
BEGIN:DAYLIGHT
TZOFFSETFROM:-0500
TZOFFSETTO:-0400
TZNAME:EDT
DTSTART:20270314T070000
END:DAYLIGHT
BEGIN:STANDARD
TZOFFSETFROM:-0400
TZOFFSETTO:-0500
TZNAME:EST
DTSTART:20271107T060000
END:STANDARD
END:VTIMEZONE
BEGIN:VEVENT
DTSTART;VALUE=DATE:20260520
DTEND;VALUE=DATE:20260521
DTSTAMP:20260425T234234
CREATED:20250505T171638Z
LAST-MODIFIED:20250505T171638Z
UID:6801-1779235200-1779321599@ircs.org
SUMMARY:Exams - 5th and 6th Period - Half Day Grades 6th - 12th
DESCRIPTION:
URL:https://ircs.org/event/exams-5th-and-6th-period-half-day-grades-6th-12th/
LOCATION:FL
END:VEVENT
BEGIN:VEVENT
DTSTART;TZID=America/New_York:20260520T090000
DTEND;TZID=America/New_York:20260520T100000
DTSTAMP:20260425T234234
CREATED:20250505T171917Z
LAST-MODIFIED:20250714T174356Z
UID:6803-1779267600-1779271200@ircs.org
SUMMARY:Kindergarten Graduation
DESCRIPTION:Worship Center
URL:https://ircs.org/event/kindergarten-graduation-4/
LOCATION:FL
ATTACH;FMTTYPE=image/png:https://ircs.org/wp-content/uploads/2023/09/Website-Caledar_Special-Event.png
END:VEVENT
END:VCALENDAR