BEGIN:VCALENDAR
VERSION:2.0
PRODID:-//Indian Rocks Christian School - ECPv6.15.20//NONSGML v1.0//EN
CALSCALE:GREGORIAN
METHOD:PUBLISH
X-ORIGINAL-URL:https://ircs.org
X-WR-CALDESC:Events for Indian Rocks Christian School
REFRESH-INTERVAL;VALUE=DURATION:PT1H
X-Robots-Tag:noindex
X-PUBLISHED-TTL:PT1H
BEGIN:VTIMEZONE
TZID:America/New_York
BEGIN:DAYLIGHT
TZOFFSETFROM:-0500
TZOFFSETTO:-0400
TZNAME:EDT
DTSTART:20250309T070000
END:DAYLIGHT
BEGIN:STANDARD
TZOFFSETFROM:-0400
TZOFFSETTO:-0500
TZNAME:EST
DTSTART:20251102T060000
END:STANDARD
BEGIN:DAYLIGHT
TZOFFSETFROM:-0500
TZOFFSETTO:-0400
TZNAME:EDT
DTSTART:20260308T070000
END:DAYLIGHT
BEGIN:STANDARD
TZOFFSETFROM:-0400
TZOFFSETTO:-0500
TZNAME:EST
DTSTART:20261101T060000
END:STANDARD
BEGIN:DAYLIGHT
TZOFFSETFROM:-0500
TZOFFSETTO:-0400
TZNAME:EDT
DTSTART:20270314T070000
END:DAYLIGHT
BEGIN:STANDARD
TZOFFSETFROM:-0400
TZOFFSETTO:-0500
TZNAME:EST
DTSTART:20271107T060000
END:STANDARD
END:VTIMEZONE
BEGIN:VEVENT
DTSTART;TZID=America/New_York:20260428T180000
DTEND;TZID=America/New_York:20260428T200000
DTSTAMP:20260425T174344
CREATED:20250502T203127Z
LAST-MODIFIED:20250513T191211Z
UID:6780-1777399200-1777406400@ircs.org
SUMMARY:New Family Welcome Event
DESCRIPTION:
URL:https://ircs.org/event/new-family-welcome-event-2/
LOCATION:FL
END:VEVENT
BEGIN:VEVENT
DTSTART;TZID=America/New_York:20260430T060000
DTEND;TZID=America/New_York:20260430T200000
DTSTAMP:20260425T174344
CREATED:20250701T200138Z
LAST-MODIFIED:20250701T200338Z
UID:6968-1777528800-1777579200@ircs.org
SUMMARY:Awards Ceremony 6th - 12th Grade
DESCRIPTION:Takes place in the new Chapel
URL:https://ircs.org/event/awards-ceremony-6th-12th-grade/
LOCATION:FL
END:VEVENT
END:VCALENDAR